BEGIN:VCALENDAR
VERSION:2.0
PRODID:-//The Cambridgeshire Guild of Weavers, Spinners and Dyers - ECPv6.15.15//NONSGML v1.0//EN
CALSCALE:GREGORIAN
METHOD:PUBLISH
X-WR-CALNAME:The Cambridgeshire Guild of Weavers, Spinners and Dyers
X-ORIGINAL-URL:https://cambsguildwsd.org.uk
X-WR-CALDESC:Events for The Cambridgeshire Guild of Weavers, Spinners and Dyers
REFRESH-INTERVAL;VALUE=DURATION:PT1H
X-Robots-Tag:noindex
X-PUBLISHED-TTL:PT1H
BEGIN:VTIMEZONE
TZID:UTC
BEGIN:STANDARD
TZOFFSETFROM:+0000
TZOFFSETTO:+0000
TZNAME:UTC
DTSTART:20230101T000000
END:STANDARD
END:VTIMEZONE
BEGIN:VEVENT
DTSTART;TZID=UTC:20240127T140000
DTEND;TZID=UTC:20240127T160000
DTSTAMP:20260419T210514
CREATED:20231006T122602Z
LAST-MODIFIED:20240302T103213Z
UID:1446-1706364000-1706371200@cambsguildwsd.org.uk
SUMMARY:AGM\, Bring and Buy and 'Fancy That' Quiz
DESCRIPTION:
URL:https://cambsguildwsd.org.uk/event/agm-bring-and-buy-and-fancy-that-quiz/
LOCATION:Arbury Community Centre\, Campkin Road\, Cambridge\, CB4 2LD
CATEGORIES:Guild Meetings
END:VEVENT
BEGIN:VEVENT
DTSTART;TZID=UTC:20240224T140000
DTEND;TZID=UTC:20240224T160000
DTSTAMP:20260419T210514
CREATED:20240121T180556Z
LAST-MODIFIED:20240302T103213Z
UID:1472-1708783200-1708790400@cambsguildwsd.org.uk
SUMMARY:Speaker Meeting: Unravelling the 'Silk Road'
DESCRIPTION:Unexpected textile stories beyond silk\, with Chris Aslan
URL:https://cambsguildwsd.org.uk/event/speaker-meeting-unravelling-the-silkroad/
LOCATION:Arbury Community Centre\, Campkin Road\, Cambridge\, CB4 2LD
CATEGORIES:Guild Meetings
END:VEVENT
BEGIN:VEVENT
DTSTART;TZID=UTC:20240309T100000
DTEND;TZID=UTC:20240309T160000
DTSTAMP:20260419T210514
CREATED:20240122T144552Z
LAST-MODIFIED:20240302T103213Z
UID:1476-1709978400-1710000000@cambsguildwsd.org.uk
SUMMARY:Come and Weave
DESCRIPTION:
URL:https://cambsguildwsd.org.uk/event/come-and-weave-52/
LOCATION:Comberton Village Hall\, Comberton Village Hall\, Comberton\, Cambridgeshire\, CB23 7BZ\, United Kingdom
CATEGORIES:Come and Weave Meetings
END:VEVENT
BEGIN:VEVENT
DTSTART;TZID=UTC:20240316T103000
DTEND;TZID=UTC:20240316T150000
DTSTAMP:20260419T210514
CREATED:20240301T181401Z
LAST-MODIFIED:20240302T103213Z
UID:1580-1710585000-1710601200@cambsguildwsd.org.uk
SUMMARY:Bow Looms part 2
DESCRIPTION:
URL:https://cambsguildwsd.org.uk/event/bow-looms-part-2/
LOCATION:Northern Lecture Room\, Museum of Archaeology and Anthropology\, Northern Lecture Room\,  Downing St\, Cambridge\, CB2 3DZ\, United Kingdom
CATEGORIES:Textile Traditions Study Group
END:VEVENT
BEGIN:VEVENT
DTSTART;TZID=UTC:20240323T103000
DTEND;TZID=UTC:20240323T160000
DTSTAMP:20260419T210514
CREATED:20240122T145517Z
LAST-MODIFIED:20240302T103213Z
UID:1524-1711189800-1711209600@cambsguildwsd.org.uk
SUMMARY:Guild Day goes to Japan
DESCRIPTION:Explore Boro as well as Takadai and Marudai weaving.  Balloted workshop on beginners’ bobbin lace.  Traders and refreshments.
URL:https://cambsguildwsd.org.uk/event/guild-day-goes-to-japan/
LOCATION:Arbury Community Centre\, Campkin Road\, Cambridge\, CB4 2LD
CATEGORIES:Guild Meetings
END:VEVENT
BEGIN:VEVENT
DTSTART;TZID=UTC:20240413T100000
DTEND;TZID=UTC:20240413T160000
DTSTAMP:20260419T210514
CREATED:20240122T144741Z
LAST-MODIFIED:20240302T103213Z
UID:1520-1713002400-1713024000@cambsguildwsd.org.uk
SUMMARY:Come and Weave
DESCRIPTION:
URL:https://cambsguildwsd.org.uk/event/come-and-weave-53/
LOCATION:Comberton Village Hall\, Comberton Village Hall\, Comberton\, Cambridgeshire\, CB23 7BZ\, United Kingdom
CATEGORIES:Come and Weave Meetings
END:VEVENT
BEGIN:VEVENT
DTSTART;TZID=UTC:20240427T140000
DTEND;TZID=UTC:20240427T160000
DTSTAMP:20260419T210514
CREATED:20240302T102851Z
LAST-MODIFIED:20240302T103213Z
UID:1583-1714226400-1714233600@cambsguildwsd.org.uk
SUMMARY:Entwined in Lace
DESCRIPTION:From simple to complex\, Tina Mason relates her lace interests and encounters
URL:https://cambsguildwsd.org.uk/event/entwined-in-lace/
LOCATION:Arbury Community Centre\, Campkin Road\, Cambridge\, CB4 2LD
CATEGORIES:Guild Meetings
END:VEVENT
BEGIN:VEVENT
DTSTART;TZID=UTC:20240511T100000
DTEND;TZID=UTC:20240511T160000
DTSTAMP:20260419T210514
CREATED:20240122T145133Z
LAST-MODIFIED:20240302T103212Z
UID:1522-1715421600-1715443200@cambsguildwsd.org.uk
SUMMARY:Come and Weave
DESCRIPTION:
URL:https://cambsguildwsd.org.uk/event/come-and-weave-54/
LOCATION:Comberton Village Hall\, Comberton Village Hall\, Comberton\, Cambridgeshire\, CB23 7BZ\, United Kingdom
CATEGORIES:Come and Weave Meetings
END:VEVENT
BEGIN:VEVENT
DTSTART;TZID=UTC:20240525T140000
DTEND;TZID=UTC:20240525T160000
DTSTAMP:20260419T210514
CREATED:20240302T103122Z
LAST-MODIFIED:20240302T103212Z
UID:1585-1716645600-1716652800@cambsguildwsd.org.uk
SUMMARY:Environment for Change
DESCRIPTION:Weaver Sarah Ward explores the history\, impact and future of Denim
URL:https://cambsguildwsd.org.uk/event/environment-for-change/
LOCATION:Cambridgeshire
CATEGORIES:Guild Meetings
END:VEVENT
BEGIN:VEVENT
DTSTART;TZID=UTC:20240629T140000
DTEND;TZID=UTC:20240629T160000
DTSTAMP:20260419T210514
CREATED:20240302T103457Z
LAST-MODIFIED:20240302T103457Z
UID:1587-1719669600-1719676800@cambsguildwsd.org.uk
SUMMARY:Exploring Egypt: Ancient Egyptian Textiles
DESCRIPTION:with Dr Corinne Duhig
URL:https://cambsguildwsd.org.uk/event/exploring-egypt-ancient-egyptian-textiles/
LOCATION:Arbury Community Centre\, Campkin Road\, Cambridge\, CB4 2LD
CATEGORIES:Guild Meetings
END:VEVENT
BEGIN:VEVENT
DTSTART;TZID=UTC:20240908T100000
DTEND;TZID=UTC:20240908T160000
DTSTAMP:20260419T210514
CREATED:20240629T171137Z
LAST-MODIFIED:20240629T171137Z
UID:1641-1725789600-1725811200@cambsguildwsd.org.uk
SUMMARY:Come and Weave
DESCRIPTION:NB this meeting is on a Sunday
URL:https://cambsguildwsd.org.uk/event/come-and-weave-55/
LOCATION:Comberton Village Hall\, Comberton Village Hall\, Comberton\, Cambridgeshire\, CB23 7BZ\, United Kingdom
CATEGORIES:Come and Weave Meetings
END:VEVENT
BEGIN:VEVENT
DTSTART;TZID=UTC:20240921T103000
DTEND;TZID=UTC:20240921T140000
DTSTAMP:20260419T210514
CREATED:20240826T164550Z
LAST-MODIFIED:20240826T164550Z
UID:1650-1726914600-1726927200@cambsguildwsd.org.uk
SUMMARY:TTSG September meeting
DESCRIPTION:
URL:https://cambsguildwsd.org.uk/event/ttsg-september-meeting/
LOCATION:Northern Lecture Room\, Museum of Archaeology and Anthropology\, Northern Lecture Room\,  Downing St\, Cambridge\, CB2 3DZ\, United Kingdom
CATEGORIES:Textile Traditions Study Group
END:VEVENT
BEGIN:VEVENT
DTSTART;TZID=UTC:20240928T140000
DTEND;TZID=UTC:20240928T140000
DTSTAMP:20260419T210514
CREATED:20240629T165100Z
LAST-MODIFIED:20240629T165100Z
UID:1633-1727532000-1727532000@cambsguildwsd.org.uk
SUMMARY:Undressing the Past
DESCRIPTION:Re-creating an 18th century silk dress with Sue Wallis
URL:https://cambsguildwsd.org.uk/event/undressing-the-past/
LOCATION:Arbury Community Centre\, Campkin Road\, Cambridge\, CB4 2LD
CATEGORIES:Guild Meetings
END:VEVENT
BEGIN:VEVENT
DTSTART;TZID=UTC:20241026T140000
DTEND;TZID=UTC:20241026T160000
DTSTAMP:20260419T210514
CREATED:20240629T165022Z
LAST-MODIFIED:20240629T165916Z
UID:1635-1729951200-1729958400@cambsguildwsd.org.uk
SUMMARY:A Journey through Colour and Geometry
DESCRIPTION:A journey through colour and geometry with Celia Charlton
URL:https://cambsguildwsd.org.uk/event/a-journey-through-colour-and-geometry/
LOCATION:Arbury Community Centre\, Campkin Road\, Cambridge\, CB4 2LD
CATEGORIES:Guild Meetings
END:VEVENT
BEGIN:VEVENT
DTSTART;TZID=UTC:20241027T100000
DTEND;TZID=UTC:20241027T170000
DTSTAMP:20260419T210514
CREATED:20240629T170844Z
LAST-MODIFIED:20240629T170844Z
UID:1639-1730023200-1730048400@cambsguildwsd.org.uk
SUMMARY:Bargello Tapestry Weaving\, 12 Places available
DESCRIPTION:A workshop on Bargello tapestry weaving with Cecilia Charlton. \nThe ballot for places on the workshop is open until 31st August 2024.  Send an email to Camilla with the subject  ‘Bargello Workshop’  if you would like to enter the ballot.
URL:https://cambsguildwsd.org.uk/event/bargello-tapestry-weaving-12-places-available/
LOCATION:Comberton Village Hall\, Comberton Village Hall\, Comberton\, Cambridgeshire\, CB23 7BZ\, United Kingdom
CATEGORIES:Workshops
END:VEVENT
BEGIN:VEVENT
DTSTART;TZID=UTC:20241109T100000
DTEND;TZID=UTC:20241109T160000
DTSTAMP:20260419T210514
CREATED:20240629T171354Z
LAST-MODIFIED:20240629T171354Z
UID:1643-1731146400-1731168000@cambsguildwsd.org.uk
SUMMARY:Come and Weave
DESCRIPTION:
URL:https://cambsguildwsd.org.uk/event/come-and-weave-56/
LOCATION:Comberton Village Hall\, Comberton Village Hall\, Comberton\, Cambridgeshire\, CB23 7BZ\, United Kingdom
CATEGORIES:Come and Weave Meetings
END:VEVENT
BEGIN:VEVENT
DTSTART;TZID=UTC:20241116T103000
DTEND;TZID=UTC:20241116T140000
DTSTAMP:20260419T210514
CREATED:20240826T165106Z
LAST-MODIFIED:20240826T165106Z
UID:1654-1731753000-1731765600@cambsguildwsd.org.uk
SUMMARY:TTSG November Meeting
DESCRIPTION:
URL:https://cambsguildwsd.org.uk/event/ttsg-november-meeting/
LOCATION:Northern Lecture Room\, Museum of Archaeology and Anthropology\, Northern Lecture Room\,  Downing St\, Cambridge\, CB2 3DZ\, United Kingdom
CATEGORIES:Textile Traditions Study Group
END:VEVENT
BEGIN:VEVENT
DTSTART;TZID=UTC:20241130T140000
DTEND;TZID=UTC:20241130T160000
DTSTAMP:20260419T210514
CREATED:20240629T165415Z
LAST-MODIFIED:20240629T165708Z
UID:1637-1732975200-1732982400@cambsguildwsd.org.uk
SUMMARY:Tracing Lost Lives
DESCRIPTION:Lucy Adlington explores the hidden histories of textiles
URL:https://cambsguildwsd.org.uk/event/tracing-lost-lives/
LOCATION:Arbury Community Centre\, Campkin Road\, Cambridge\, CB4 2LD
CATEGORIES:Guild Meetings
END:VEVENT
BEGIN:VEVENT
DTSTART;TZID=UTC:20250125T140000
DTEND;TZID=UTC:20250125T160000
DTSTAMP:20260419T210514
CREATED:20250112T155036Z
LAST-MODIFIED:20250112T155036Z
UID:1701-1737813600-1737820800@cambsguildwsd.org.uk
SUMMARY:AGM\, Bring and Buy\, 'Fancy That' Quiz
DESCRIPTION:
URL:https://cambsguildwsd.org.uk/event/agm-bring-and-buy-fancy-that-quiz/
LOCATION:Arbury Community Centre\, Campkin Road\, Cambridge\, CB4 2LD
CATEGORIES:Guild Meetings
END:VEVENT
BEGIN:VEVENT
DTSTART;TZID=UTC:20250222T140000
DTEND;TZID=UTC:20250222T160000
DTSTAMP:20260419T210514
CREATED:20250112T155554Z
LAST-MODIFIED:20250112T160513Z
UID:1703-1740232800-1740240000@cambsguildwsd.org.uk
SUMMARY:Carpet ride to Khiva
DESCRIPTION:Chris Aslan returns\, taking us on a magical carpet ride through Uzbekistan
URL:https://cambsguildwsd.org.uk/event/carpet-ride-to-khiva/
LOCATION:Arbury Community Centre\, Campkin Road\, Cambridge\, CB4 2LD
CATEGORIES:Guild Meetings
END:VEVENT
BEGIN:VEVENT
DTSTART;TZID=UTC:20250308T100000
DTEND;TZID=UTC:20250308T160000
DTSTAMP:20260419T210514
CREATED:20250112T160235Z
LAST-MODIFIED:20250112T160235Z
UID:1705-1741428000-1741449600@cambsguildwsd.org.uk
SUMMARY:Come and Weave
DESCRIPTION:
URL:https://cambsguildwsd.org.uk/event/come-and-weave-57/
LOCATION:Comberton Village Hall\, Comberton Village Hall\, Comberton\, Cambridgeshire\, CB23 7BZ\, United Kingdom
CATEGORIES:Come and Weave Meetings
END:VEVENT
BEGIN:VEVENT
DTSTART;TZID=UTC:20250524T100000
DTEND;TZID=UTC:20250525T170000
DTSTAMP:20260419T210514
CREATED:20240629T164430Z
LAST-MODIFIED:20240629T164430Z
UID:1631-1748080800-1748192400@cambsguildwsd.org.uk
SUMMARY:Triennial Exhibition
DESCRIPTION:
URL:https://cambsguildwsd.org.uk/event/triennial-exhibition-2/
LOCATION:Grantchester Village Hall\, CB3 9NG
CATEGORIES:Exhibition
END:VEVENT
END:VCALENDAR